BEGIN:VCALENDAR
VERSION:2.0
PRODID:-//SPSW - ECPv4.5.8//NONSGML v1.0//EN
CALSCALE:GREGORIAN
METHOD:PUBLISH
X-WR-CALNAME:SPSW
X-ORIGINAL-URL:https://spsw.net.au
X-WR-CALDESC:Events for SPSW
BEGIN:VEVENT
DTSTART;TZID=UTC+0:20210226T084500
DTEND;TZID=UTC+0:20210226T163000
DTSTAMP:20210225T134051
CREATED:20210203T112300Z
LAST-MODIFIED:20210203T120040Z
UID:1486-1614329100-1614357000@spsw.net.au
SUMMARY:Thought Field Therapy Tapping
DESCRIPTION:SPSW is pleased to present this workshop\, Thought Field Therapy Tapping\, by Christopher Semmens\, a clinical psychologist with 23 years private practice experience. \nTrauma-informed care & practice (TICP) is a framework for the provision of services for mental health clients that originated in the early 1990s. Recent developments signal a greater recognition of “person” factors in certain medical conditions. The emergence of the term “psychophysiological disorders” (PPD) and a change of the descriptor for some gastroenterological conditions from functional disorders to “disorders of gut-brain interaction” (DGBI) testify to a paradigm shift being underway. \nThis workshop will provide those working with mental health clientele with the opportunity: \n\nTo understand the developments leading to the trauma-informed care & practice model of service delivery & the origins of the TFT tapping technique\nTo acquire a familiarity with the implementation of the technique\nFor participants to be able to assess a client in a way that is likely to lead to the successful implementation of a TFT tapping intervention within a TICP model\nTo be able to relate current understanding and hypotheses about the possible mechanisms of action involved in TFT tapping.\n\n WHO: Christopher Semmens\, clinical psychologist \nWHEN: Friday 26th February\, 2021   8.45am (9am start) to 4.30pm  \nWHERE: North West Metropolitan TAFE\, Training Room A346\, Cnr Richmond and Oxford Sts\, Leederville \nFor more information click here. \nTo download the registration form click Registration. \n
URL:https://spsw.net.au/event/thought-field-therapy-tapping/
LOCATION:Cnr Oxford and Richmond Sts\, Leederville\, Western Australia\, 6007\, Australia
END:VEVENT
END:VCALENDAR